BEGIN:VCALENDAR
VERSION:2.0
PRODID:-//Sisthema //NONSGML Events //EN
CALSCALE:GREGORIAN
X-WR-CALNAME:Sisthema
BEGIN:VEVENT
CREATED:20240626T133832
UID:24102
DTEND;VALUE=DATE:20241017T160000
DTSTART;VALUE=DATE:20241017T150000
DTSTAMP:20260419T233908Z
LOCATION:
DESCRIPTION:Gli strumenti innovativi di modernizzazione e le funzionalità per il Visual Management e l’ottimizzazione della user Experience Webgate400 è la suite di strumenti innovativi per lo sviluppo Multidevice, progettati per essere funzionali e produttivi sia per grandi sistemi ERP che per progetti dipartimentali. Nel corso del webinar, in particolare, ci concentreremo sull'evoluzione di una piattaforma ora Web Full Responsive, arricchita da funzioni di intelligenza artificiale per migliorare l'User Experience e supportare l'User Coaching. Inoltre, saranno presenti nuovi moduli parametrici per il Visual management, integrati per garantire un'esperienza utente ottimale su tutti i dispositivi. Nella demo ti dimostreremo come, con Power-B, il modulo più innovativo della suite Webgate400, bastano pochi passaggi per rivoluzionare le applicazioni gestionali rpg in chiave contemporanea, mantenendo la solidità e la completezza applicativa della soluzione originale. Scopriremo la semplicità del processo di modernizzazione e tutte le funzionalità che le rendono accessibili da mobile e qualsiasi sistema operativo (MacOS incluso) e ti garantiscono la massima personalizzazione.
SUMMARY:Webgate400: la suite Web Full Responsive per lo sviluppo Multidevice
ORGANIZER;CN="Sisthema Spa":mailto:eventi@sisthemaspa.it
URL;VALUE=URI:https://sisthemaspa.it/eventi/webinar/webgate400-1024/
TRANSP:OPAQUE
BEGIN:VALARM
ACTION:DISPLAY
TRIGGER;VALUE=DATE-TIME:
DESCRIPTION:Reminder for Webgate400: la suite Web Full Responsive per lo sviluppo Multidevice
END:VALARM
END:VEVENT
END:VCALENDAR