BEGIN:VCALENDAR
VERSION:2.0
PRODID:-//Sisthema //NONSGML Events //EN
CALSCALE:GREGORIAN
X-WR-CALNAME:Sisthema
BEGIN:VEVENT
CREATED:20230918T091125
UID:13941
DTEND;VALUE=DATE:20231018T183000
DTSTART;VALUE=DATE:20231018T143000
DTSTAMP:20260423T002429Z
LOCATION:Hotel 500  - Via Tomerello\, 1\, 50013 Campi Bisenzio FI
DESCRIPTION:Tutte le novità dell'ERP SAM v. 11 in un evento esclusivo dedicato ai clienti. In agenda le roadmap evolutive dell'ERP SAM e approfondimenti sui temi di maggiore attualità in ambito ERP. Appuntamento mercoledì 18 ottobre presso l'Hotel 500 a Campi Bisenzio, FI dalle 14.30 alle 18.30 AGENDA: 14,30   REGISTRAZIONE E WELCOME COFFEE  15,00   BENVENUTO E INTRODUZIONE - Franco Biffoli, Presidente Sisthema -  Massimiliano Iacona, Resp. Tecnico e Gino Bolla, Resp. Commerciale Sisthema SAM11, NEXT GENERATION ERP   Novità tecnologiche SAM11, Alessandro Salomoni, Responsabile IBM i e Laboratori ERP, Sisthema | Webgate400 product manager La Road Map SAM, novità applicative SAM11 Luca Giorgi, Responsabile tecnico, Sisthema  Approccio al progetto SAM11, Riccardo Pisani, Responsabile tecnico, Sisthema   LE NUOVE TECNOLOGIE IBM POWER10 - Luca Tiberti, ISV PowerEcosystem Leader, IBM Italia SOLUZIONI PER LA SICUREZZA: Ipro e Monitoring - Pierpaolo Pedrelli, Responsabile tecnico soluzioni sicurezza Power, Sisthema  MODELLO DI ANALISI AMMINISTRAZIONE E CONTROLLO / CRISI DI IMPRESA E ADEGUATI ASSETTI ORGANIZZATIVI - Giovanni Corcione, Resp. Delivery Sisthema e Prof. Ciro Lenti  LE OPPORTUNITA’ RISERVATE AI CLIENTI E Q&A - Simone Tarlarini, Direttore Vendite, Sisthema  17,30 PREMIAZIONE E APERITIVO
SUMMARY:SAM 11 Next Generation ERP
ORGANIZER;CN="Sisthema Spa":mailto:eventi@sisthemaspa.it
URL;VALUE=URI:https://sisthemaspa.it/eventi/evento-in-presenza/sam-11-next-generation-erp/
TRANSP:OPAQUE
BEGIN:VALARM
ACTION:DISPLAY
TRIGGER;VALUE=DATE-TIME:
DESCRIPTION:Reminder for SAM 11 Next Generation ERP
END:VALARM
END:VEVENT
END:VCALENDAR