BEGIN:VCALENDAR
VERSION:2.0
PRODID:-//Sisthema //NONSGML Events //EN
CALSCALE:GREGORIAN
X-WR-CALNAME:Sisthema
BEGIN:VEVENT
CREATED:20230908T143145
UID:13887
DTEND;VALUE=DATE:20231005T120000
DTSTART;VALUE=DATE:20231005T103000
DTSTAMP:20260422T224446Z
LOCATION:Webinar
DESCRIPTION:Panthera si arricchisce di una nuova app BUSINESS INTELLIGENCE, sviluppata con tecnologia Qlik Sense, pronta all’uso e totalmente integrata in Panthera Finance, in grado di rendere più efficaci l’ANALISI DI BILANCIO di Panthera Finance:   Dai bilanci riclassificati agli indici di bilancio:          - Indici economici (ROE ROS ecc.)         - Indici patrimoniali (Indebitamento e Disponibilità ecc.)         - Crisi d’impresa (Indice liquidità, Cash Flow ecc.)         - Rendiconto finanziario (metodo diretto e indiretto)     ANALISI AGING e SCADENZARI CLIENTI e FORNITORI.  Scopri tutti i dettagli della nuova App BI Amministrazione e Indici d’impresa, nel webinar presenteremo una demo live della soluzione!
SUMMARY:Panthera Business intelligence | La nuova App BI Amministrazione e Indici di impresa
ORGANIZER;CN="Sisthema Spa":mailto:eventi@sisthemaspa.it
URL;VALUE=URI:https://sisthemaspa.it/eventi/webinar/panthera-business-intelligence-la-nuova-app-bi-amministrazione-e-indici-di-impresa/
TRANSP:OPAQUE
BEGIN:VALARM
ACTION:DISPLAY
TRIGGER;VALUE=DATE-TIME:
DESCRIPTION:Reminder for Panthera Business intelligence | La nuova App BI Amministrazione e Indici di impresa
END:VALARM
END:VEVENT
END:VCALENDAR