BEGIN:VCALENDAR
VERSION:2.0
PRODID:-//Sisthema //NONSGML Events //EN
CALSCALE:GREGORIAN
X-WR-CALNAME:Sisthema
BEGIN:VEVENT
CREATED:20231009T094508
UID:15338
DTEND;VALUE=DATE:
DTSTART;VALUE=DATE:20231031T103000
DTSTAMP:20260423T052525Z
LOCATION:Webinar
DESCRIPTION:Posti esauriti! Scrivici a marketing@sisthemaspa.it per ricevere gli la registrazione dell'evento online. 
Panthera 5.0 è arrivato!
2011: Panthera lanciava la sua versione 4, quella che tutti oggi conosciamo. Da quell’anno sono state tantissime le novità e le funzioni introdotte nel vostro ERP, un progresso continuo per arricchirlo di tecnologia e innovazione. 2023: Dodici anni dopo. Siete pronti a scoprire la rivoluzione di Panthera 5.0? Panthera cambia volto e si apre a nuove prospettive e opportunità.
Un salto tecnologico che lascerà il segno e che vi presentiamo in anteprima il 31 ottobre.
Estetica, usabilità e funzionalità: Panthera 5.0 arriverà su tutti i clienti da novembre. Non puoi perdere questo appuntamento per scoprire come cambierà l'interfaccia utente del tuo Panthera! Cosa scopriremo il 31 ottobre?
1. Gli obiettivi del progetto di restyling
2. Le scelte stilistiche
3. L’intervento strutturale
4. Le novità funzionali del CRM
5. Presentazione LIVE della nuova interfaccia utente
6. Roadmap evolutiva Il futuro del tuo Panthera è già realtà; fatti trovare pronto!
SUMMARY:Panthera 5.0 Next Generation
ORGANIZER;CN="Sisthema Spa":mailto:eventi@sisthemaspa.it
URL;VALUE=URI:https://sisthemaspa.it/es/eventos/webinar/panthera-5-0-next-generation/
TRANSP:OPAQUE
BEGIN:VALARM
ACTION:DISPLAY
TRIGGER;VALUE=DATE-TIME:
DESCRIPTION:Reminder for Panthera 5.0 Next Generation
END:VALARM
END:VEVENT
END:VCALENDAR